BEGIN:VCALENDAR
VERSION:2.0
PRODID:-//wp-events-plugin.com//7.2.3.1//EN
TZID:America/New_York
X-WR-TIMEZONE:America/New_York
BEGIN:VEVENT
UID:109@beaconplayers.com
DTSTART;TZID=America/New_York:20211110T180000
DTEND;TZID=America/New_York:20211110T210000
DTSTAMP:20211109T214227Z
URL:https://beaconplayers.com/events/veterans-day-2021-11-11/
SUMMARY:Costume Crew **Change**
DESCRIPTION:
CATEGORIES:Beacon Players
END:VEVENT
BEGIN:VTIMEZONE
TZID:America/New_York
X-LIC-LOCATION:America/New_York
BEGIN:STANDARD
DTSTART:20211107T010000
TZOFFSETFROM:-0400
TZOFFSETTO:-0500
TZNAME:EST
END:STANDARD
END:VTIMEZONE
END:VCALENDAR