BEGIN:VCALENDAR
VERSION:2.0
PRODID:-//wp-events-plugin.com//7.2.3.1//EN
TZID:America/New_York
X-WR-TIMEZONE:America/New_York
BEGIN:VEVENT
UID:2526@beaconplayers.com
DTSTART;TZID=America/New_York:20250916T143000
DTEND;TZID=America/New_York:20250916T153000
DTSTAMP:20250916T133834Z
URL:https://beaconplayers.com/events/vocal-rehearsal-14/
SUMMARY:Vocal Rehearsal
DESCRIPTION:Chorus Room\nCalled:\nMeg  and  Mr.Brooke - More Than I Am\n\
 n&nbsp\;
CATEGORIES:Rehearsal
END:VEVENT
BEGIN:VTIMEZONE
TZID:America/New_York
X-LIC-LOCATION:America/New_York
BEGIN:DAYLIGHT
DTSTART:20250309T030000
TZOFFSETFROM:-0500
TZOFFSETTO:-0400
TZNAME:EDT
END:DAYLIGHT
END:VTIMEZONE
END:VCALENDAR