BEGIN:VCALENDAR
VERSION:2.0
PRODID:-//wp-events-plugin.com//7.2.3.1//EN
TZID:America/New_York
X-WR-TIMEZONE:America/New_York
BEGIN:VEVENT
UID:2581@beaconplayers.com
DTSTART;TZID=America/New_York:20251008T141500
DTEND;TZID=America/New_York:20251008T151500
DTSTAMP:20251008T004427Z
URL:https://beaconplayers.com/events/vocal-rehearsal-19/
SUMMARY:Vocal Rehearsal
DESCRIPTION:After School in the Chorus Room -  Small Umbrella in the Rain 
 &amp\; Would You\nCalled:\nJo\, Professor Bhaer\, Aunt March\n&nbsp\;
CATEGORIES:Vocal Rehearsal
END:VEVENT
BEGIN:VTIMEZONE
TZID:America/New_York
X-LIC-LOCATION:America/New_York
BEGIN:DAYLIGHT
DTSTART:20250309T030000
TZOFFSETFROM:-0500
TZOFFSETTO:-0400
TZNAME:EDT
END:DAYLIGHT
END:VTIMEZONE
END:VCALENDAR