BEGIN:VCALENDAR
VERSION:2.0
PRODID:-//wp-events-plugin.com//7.2.3.1//EN
TZID:America/New_York
X-WR-TIMEZONE:America/New_York
BEGIN:VEVENT
UID:2595@beaconplayers.com
DTSTART;TZID=America/New_York:20251015T141500
DTEND;TZID=America/New_York:20251015T151500
DTSTAMP:20251012T150326Z
URL:https://beaconplayers.com/events/vocal-rehearsal-21/
SUMMARY:Vocal Rehearsal
DESCRIPTION:Five Forever/Something's are Meant to Be\nCalled:\nAmy\, Beth\,
  Meg\, Jo\, Laurie
CATEGORIES:Vocal Rehearsal
END:VEVENT
BEGIN:VTIMEZONE
TZID:America/New_York
X-LIC-LOCATION:America/New_York
BEGIN:DAYLIGHT
DTSTART:20250309T030000
TZOFFSETFROM:-0500
TZOFFSETTO:-0400
TZNAME:EDT
END:DAYLIGHT
END:VTIMEZONE
END:VCALENDAR